BEGIN:VCALENDAR
VERSION:2.0
PRODID:https://github.com/derhansen/sf_event_mgt
METHOD:PUBLISH
BEGIN:VEVENT
UID:2183-1222@www.lksh.de
CLASS: PUBLIC
SUMMARY:Workshop Legehennenhaltung
DESCRIPTION:In dem Seminar sollen produktionstechnische Fragestellungen run
 d um die Legehennenhaltung behandelt werden. Dazu wird auch ein Geflügeltie
 rarzt referieren. Im Seminar werden folgende Themen behandelt:\n\n\n\n\n\n	
 Arbeitszeit und Wirtschaftlichkeit – zwei nicht zu unterschätzende Paramete
 r/Faktoren in der Legehennenhaltung\n\n	Photovoltaik im Auslauf – was ist m
 öglich?\n\n	tierschutzgerechter Umgang mit Legehennen – Einstallen, Umstall
 en, Ausstallen\n\n	Reinigung und Desinfektion – wirklich so notwendig wie b
 eschrieben?\n\n	kleine Rechtskunde – was ist in der Legehennenhaltung beson
 ders zu beachten?         \n\n	Schutz der Hühner vor Beutegreifern – was ka
 nn ich machen?\n\n\n\n\n\n\n\n	Mit dem Seminar wird die Sachkunde zur Nottö
 tung von Geflügel bescheinigt.\n\n\n\n\n\nReferenten: Silke Schierhold, LWK
  Niedersachsen, Dirk Stöven, LK SH\n\n\n\nTeilnahmebeitrag: 75 €/Person, in
 kl. Verpflegungspauschale\n\n\n\nDieses Seminar wird aus Mitteln der EU (EL
 ER) und des Landes S-H (MLLEV) gefördert.\n\nErläuterung siehe https://www.
 lksh.de/de/foerderung/foerderung-in-der-bildung/\n\nTeilnahmebedingungen:ww
 w.lksh.de/de/aktuelles/agrarterminkalender/teilnahmebedingungen/\n\n
DTSTAMP:20251024T100010Z
DTSTART:20260127T080000Z
DTEND:20260127T150000Z
END:VEVENT
END:VCALENDAR
