BEGIN:VCALENDAR
VERSION:2.0
PRODID:https://github.com/derhansen/sf_event_mgt
METHOD:PUBLISH
BEGIN:VEVENT
UID:2247-1222@www.lksh.de
CLASS: PUBLIC
SUMMARY:Onlinetage für Arbeitnehmende im Agrarbereich: Wissenswertes aus de
 m Arbeitsrecht zum Thema Urlaub
DESCRIPTION:Das Thema Urlaub umfasst vielfältige Fragen: Verfall von Urlaub
 , Urlaubsanspruch im Minijob, Einfluss auf den Urlaubszeitraum, Probleme mi
 t genehmigtem und gebuchtem Urlaub, Erreichbarkeit und Krankheit im Urlaub 
 sowie Arbeiten in der Urlaubszeit sind einige davon. In seinem Vortag gibt 
 Rechtsanwalt Andreas Kilian (VLF) Antwort auf verschiedene Fragen zum Urlau
 b und geht dabei auch auf aktuelle Rechtsprechung ein. Ihren Platz finden a
 ußerdem Informationen über Bildungsurlaub und Freistellungen für Fortbildun
 g und Ehrenamt.\n\n\n\nStart 19 Uhr\n\nDie Teilnahme ist kostenfrei.\n\nZug
 ang zur Veranstaltung hier:Onlinetage für Arbeitnehmende \n\n
DTSTAMP:20260119T111443Z
DTSTART:20260211T180000Z
DTEND:20260211T203000Z
END:VEVENT
END:VCALENDAR
