BEGIN:VCALENDAR
VERSION:2.0
PRODID:https://github.com/derhansen/sf_event_mgt
METHOD:PUBLISH
BEGIN:VEVENT
UID:1367-1222@www.lksh.de
CLASS: PUBLIC
SUMMARY:Onlineseminar: Einführung in MLP-Online und MLP-Mobil (iOs-Betiebss
 ysteme) für Einsteiger
DESCRIPTION:Eine regelmäßige Datenerfassung ist ein wesentlicher Bestandtei
 l für das Herdenmanagement eines Milchviehbetriebes. Wir zeigen Ihnen unser
 e Programme, Erfassungsmöglichkeiten und Ergebnisansichten sowie deren effe
 ktiven Einsatz zur Optimierung und Förderung der Tiergesundheit Ihrer Herde
 . Sie lernen, die Auswertungen und Ergebnisdarstellungen von betriebsindivi
 duellen Daten zu interpretieren und als wichtiges Werkzeug im Herdenmanagem
 ent zu nutzen.\n\nAn den Onlineseminaren können Sie von zu Hause aus live v
 or dem Computer teilnehmen.\n\n\n\nBitte melden Sie sich verbindlich mit Ih
 rem Namen und der LKV-Betriebsnummer unter info@lkv-sh.de an.\n\n\n\nDie Te
 ilnahme ist für LKV-Mitglieder kostenfrei.\n\nNach der Anmeldung erhalten S
 ie von uns eine Anmeldebestätigung sowie ausführliche Informationen zur Tei
 lnahme per E-Mail. Etwa eine Woche vor dem Seminar senden wir Ihnen die Zug
 angsinformationen für das Online-Meeting zu.\n\nBei Bedarf kann eine Teilna
 hmebescheinigung für Förderprogramme ausgestellt werden.\n\n
DTSTAMP:20241206T102339Z
DTSTART:20250219T180000Z
DTEND:20250219T193000Z
END:VEVENT
END:VCALENDAR
