BEGIN:VCALENDAR
VERSION:2.0
PRODID:https://github.com/derhansen/sf_event_mgt
METHOD:PUBLISH
BEGIN:VEVENT
UID:2321-1222@www.lksh.de
CLASS: PUBLIC
SUMMARY:Bau- und Energielehrschautag: Klimabilanz auf dem Hof - Chancen, Up
 dates & Lösungen
DESCRIPTION:Die Landwirtschaft steht zunehmend im Fokus der Klimadebatte – 
 und bietet gleichzeitig große Chancen, aktiv Lösungen mitzugestalten. Viele
  Betriebe setzen bereits erfolgreich Maßnahmen um, um ihre Produktion nachh
 altiger und zukunftsfähiger auszurichten.\n\n\n\nIn Deutschland entfallen r
 und 8–9 % der Treibhausgasemissionen auf die Landwirtschaft. Vor allem Meth
 an aus der Tierhaltung und Lachgas aus der Düngung spielen hierbei eine Rol
 le. Gleichzeitig ergeben sich genau hier vielfältige Möglichkeiten, Emissio
 nen zu reduzieren und Abläufe effizienter zu gestalten.\n\n\n\nEin zentrale
 r Ansatz ist der Blick auf den gesamten Betrieb: Böden können Kohlenstoff s
 peichern, optimiertes Nährstoffmanagement steigert die Effizienz, und moder
 ne Technik sowie erneuerbare Energien eröffnen zusätzliche Potenziale. Klim
 abilanzierungen helfen dabei, den eigenen Betrieb besser zu verstehen und g
 ezielt weiterzuentwickeln.\n\n\n\nDie Veranstaltung bietet aktuelle Einblic
 ke aus Wissenschaft und Praxis und zeigt konkrete Wege auf, wie Klimaschutz
  und wirtschaftlicher Erfolg sinnvoll verbunden werden können.\n\n\n\n \n\n
 \n\nProgramm (ab 10:00 Uhr)\n\n\n\n„Klimabilanzen – aktuelle Entwicklungen 
 & Sachstand Wissenschaft“\n\nDr. Friederike Fenger, Thünen-Institut\n\n\n\n
 „Klimabilanzierung auf dem landwirtschaftlichen Betrieb – wie Arla Foods vo
 rangeht“\n\nArla Foods Deutschland GmbH\n\n\n\nVortrag der Landwirtschaftli
 chen Rentenbank\n\nPhilipp Mehlhose\n\n\n\n12:15 Uhr – Mittagsimbiss\n\n\n\
 nIm Anschluss: Besuch der Bau- und Energielehrschau\n\n\n\nHinweise\n\n\n\n
 \n\n	Teilnahme kostenfrei\n\n	Keine Anmeldung erforderlich\n\n\n\n
LOCATION:Lehr- und Versuchszentrum Futterkamp, Blekendorf
DTSTAMP:20260420T063328Z
DTSTART:20260507T070000Z
DTEND:20260507T130000Z
END:VEVENT
END:VCALENDAR
